BEGIN:VCALENDAR
VERSION:2.0
PRODID:-//Sonderausgabe - ECPv6.15.20//NONSGML v1.0//EN
CALSCALE:GREGORIAN
METHOD:PUBLISH
X-WR-CALNAME:Sonderausgabe
X-ORIGINAL-URL:https://www.sonder-ausgabe.at
X-WR-CALDESC:Veranstaltungen für Sonderausgabe
REFRESH-INTERVAL;VALUE=DURATION:PT1H
X-Robots-Tag:noindex
X-PUBLISHED-TTL:PT1H
BEGIN:VTIMEZONE
TZID:Europe/Berlin
BEGIN:DAYLIGHT
TZOFFSETFROM:+0100
TZOFFSETTO:+0200
TZNAME:CEST
DTSTART:20210328T010000
END:DAYLIGHT
BEGIN:STANDARD
TZOFFSETFROM:+0200
TZOFFSETTO:+0100
TZNAME:CET
DTSTART:20211031T010000
END:STANDARD
BEGIN:DAYLIGHT
TZOFFSETFROM:+0100
TZOFFSETTO:+0200
TZNAME:CEST
DTSTART:20220327T010000
END:DAYLIGHT
BEGIN:STANDARD
TZOFFSETFROM:+0200
TZOFFSETTO:+0100
TZNAME:CET
DTSTART:20221030T010000
END:STANDARD
BEGIN:DAYLIGHT
TZOFFSETFROM:+0100
TZOFFSETTO:+0200
TZNAME:CEST
DTSTART:20230326T010000
END:DAYLIGHT
BEGIN:STANDARD
TZOFFSETFROM:+0200
TZOFFSETTO:+0100
TZNAME:CET
DTSTART:20231029T010000
END:STANDARD
END:VTIMEZONE
BEGIN:VEVENT
DTSTART;TZID=Europe/Berlin:20220806T190000
DTEND;TZID=Europe/Berlin:20220806T200000
DTSTAMP:20260422T110507
CREATED:20211220T065803Z
LAST-MODIFIED:20211220T065803Z
UID:798-1659812400-1659816000@www.sonder-ausgabe.at
SUMMARY:Sommerszene Gänserndorf
DESCRIPTION:Festival Gelände Gänserndorf
URL:https://www.sonder-ausgabe.at/event/sommerszene-gaenserndorf/
LOCATION:Sommerszene Gänserndorf\, Bahnstrasse 31\, Gänserndorf\, 2230
END:VEVENT
END:VCALENDAR